BEGIN:VCALENDAR
VERSION:2.0
PRODID:-//Porter Township School Corporation - ECPv6.15.11//NONSGML v1.0//EN
CALSCALE:GREGORIAN
METHOD:PUBLISH
X-WR-CALNAME:Porter Township School Corporation
X-ORIGINAL-URL:https://www.ptsc.k12.in.us
X-WR-CALDESC:Events for Porter Township School Corporation
REFRESH-INTERVAL;VALUE=DURATION:PT1H
X-Robots-Tag:noindex
X-PUBLISHED-TTL:PT1H
BEGIN:VTIMEZONE
TZID:America/Chicago
BEGIN:DAYLIGHT
TZOFFSETFROM:-0600
TZOFFSETTO:-0500
TZNAME:CDT
DTSTART:20210314T080000
END:DAYLIGHT
BEGIN:STANDARD
TZOFFSETFROM:-0500
TZOFFSETTO:-0600
TZNAME:CST
DTSTART:20211107T070000
END:STANDARD
BEGIN:DAYLIGHT
TZOFFSETFROM:-0600
TZOFFSETTO:-0500
TZNAME:CDT
DTSTART:20220313T080000
END:DAYLIGHT
BEGIN:STANDARD
TZOFFSETFROM:-0500
TZOFFSETTO:-0600
TZNAME:CST
DTSTART:20221106T070000
END:STANDARD
BEGIN:DAYLIGHT
TZOFFSETFROM:-0600
TZOFFSETTO:-0500
TZNAME:CDT
DTSTART:20230312T080000
END:DAYLIGHT
BEGIN:STANDARD
TZOFFSETFROM:-0500
TZOFFSETTO:-0600
TZNAME:CST
DTSTART:20231105T070000
END:STANDARD
END:VTIMEZONE
BEGIN:VEVENT
DTSTART;TZID=America/Chicago:20220908T183000
DTEND;TZID=America/Chicago:20220908T203000
DTSTAMP:20260425T150707
CREATED:20220830T180706Z
LAST-MODIFIED:20221101T194519Z
UID:6976-1662661800-1662669000@www.ptsc.k12.in.us
SUMMARY:Board of School Trustees Meeting
DESCRIPTION:
URL:https://www.ptsc.k12.in.us/events/board-of-school-trustees-meeting-38/
LOCATION:Porter Township School Corporation Administration Building\, United States
CATEGORIES:Board Meetings,Board Meetings 2022-2023
END:VEVENT
BEGIN:VEVENT
DTSTART;TZID=America/Chicago:20220929T173000
DTEND;TZID=America/Chicago:20220929T183000
DTSTAMP:20260425T150707
CREATED:20220926T134045Z
LAST-MODIFIED:20220929T153209Z
UID:7127-1664472600-1664476200@www.ptsc.k12.in.us
SUMMARY:Notice of Meeting of Directors of Porter Township High School Building Corporation
DESCRIPTION:
URL:https://www.ptsc.k12.in.us/events/notice-of-meeting-of-directors-of-porter-township-high-school-building-corporation/
LOCATION:Porter Township School Corporation Administration Building\, United States
CATEGORIES:Meetings,Porter Township High School Building Corproation
END:VEVENT
BEGIN:VEVENT
DTSTART;TZID=America/Chicago:20220929T183000
DTEND;TZID=America/Chicago:20220929T193000
DTSTAMP:20260425T150707
CREATED:20220923T210131Z
LAST-MODIFIED:20220923T210828Z
UID:7114-1664476200-1664479800@www.ptsc.k12.in.us
SUMMARY:Notice of Public Meeting for Tentative Agreement of the Association of Porter Township Educators
DESCRIPTION:Tentative Agreement 8-30-2022
URL:https://www.ptsc.k12.in.us/events/notice-of-public-meeting-for-tentative-agreement-of-the-association-of-porter-township-educators/
LOCATION:Porter Township School Corporation Administration Building\, United States
CATEGORIES:Board Meetings 2022-2023,Meetings,TA Meeting
END:VEVENT
BEGIN:VEVENT
DTSTART;TZID=America/Chicago:20220929T183000
DTEND;TZID=America/Chicago:20220929T193000
DTSTAMP:20260425T150707
CREATED:20220923T211612Z
LAST-MODIFIED:20221101T194055Z
UID:7118-1664476200-1664479800@www.ptsc.k12.in.us
SUMMARY:Special Board of School Trustees Meeting
DESCRIPTION:
URL:https://www.ptsc.k12.in.us/events/special-board-of-school-trustees-meeting-2/
LOCATION:Porter Township School Corporation Administration Building\, United States
CATEGORIES:Board Meetings,Board Meetings 2022-2023,Meetings
END:VEVENT
END:VCALENDAR