BEGIN:VCALENDAR
VERSION:2.0
PRODID:-//Porter Township School Corporation - ECPv6.15.11//NONSGML v1.0//EN
CALSCALE:GREGORIAN
METHOD:PUBLISH
X-WR-CALNAME:Porter Township School Corporation
X-ORIGINAL-URL:https://www.ptsc.k12.in.us
X-WR-CALDESC:Events for Porter Township School Corporation
REFRESH-INTERVAL;VALUE=DURATION:PT1H
X-Robots-Tag:noindex
X-PUBLISHED-TTL:PT1H
BEGIN:VTIMEZONE
TZID:America/Chicago
BEGIN:DAYLIGHT
TZOFFSETFROM:-0600
TZOFFSETTO:-0500
TZNAME:CDT
DTSTART:20210314T080000
END:DAYLIGHT
BEGIN:STANDARD
TZOFFSETFROM:-0500
TZOFFSETTO:-0600
TZNAME:CST
DTSTART:20211107T070000
END:STANDARD
BEGIN:DAYLIGHT
TZOFFSETFROM:-0600
TZOFFSETTO:-0500
TZNAME:CDT
DTSTART:20220313T080000
END:DAYLIGHT
BEGIN:STANDARD
TZOFFSETFROM:-0500
TZOFFSETTO:-0600
TZNAME:CST
DTSTART:20221106T070000
END:STANDARD
BEGIN:DAYLIGHT
TZOFFSETFROM:-0600
TZOFFSETTO:-0500
TZNAME:CDT
DTSTART:20230312T080000
END:DAYLIGHT
BEGIN:STANDARD
TZOFFSETFROM:-0500
TZOFFSETTO:-0600
TZNAME:CST
DTSTART:20231105T070000
END:STANDARD
END:VTIMEZONE
BEGIN:VEVENT
DTSTART;TZID=America/Chicago:20220809T153000
DTEND;TZID=America/Chicago:20220809T163000
DTSTAMP:20260425T162511
CREATED:20220804T210604Z
LAST-MODIFIED:20220804T210754Z
UID:6893-1660059000-1660062600@www.ptsc.k12.in.us
SUMMARY:Notice of Public Hearing PTSC & Association of Porter Township Educators
DESCRIPTION:
URL:https://www.ptsc.k12.in.us/events/notice-of-public-hearing-ptsc-association-of-porter-township-educators/
LOCATION:Porter Township School Corporation Administration Building\, United States
CATEGORIES:Board Meetings,Board Meetings 2022-2023
END:VEVENT
BEGIN:VEVENT
DTSTART;TZID=America/Chicago:20220818T183000
DTEND;TZID=America/Chicago:20220818T200000
DTSTAMP:20260425T162511
CREATED:20220719T125915Z
LAST-MODIFIED:20220909T183749Z
UID:6822-1660847400-1660852800@www.ptsc.k12.in.us
SUMMARY:Board of School Trustees Meeting
DESCRIPTION:
URL:https://www.ptsc.k12.in.us/events/board-of-school-trustees-meeting-37/
LOCATION:Porter Township School Corporation Administration Building\, United States
CATEGORIES:Board Meetings,Board Meetings 2022-2023
END:VEVENT
END:VCALENDAR