BEGIN:VCALENDAR
VERSION:2.0
PRODID:-//Porter Township School Corporation - ECPv6.15.11//NONSGML v1.0//EN
CALSCALE:GREGORIAN
METHOD:PUBLISH
X-ORIGINAL-URL:https://www.ptsc.k12.in.us
X-WR-CALDESC:Events for Porter Township School Corporation
REFRESH-INTERVAL;VALUE=DURATION:PT1H
X-Robots-Tag:noindex
X-PUBLISHED-TTL:PT1H
BEGIN:VTIMEZONE
TZID:America/Chicago
BEGIN:DAYLIGHT
TZOFFSETFROM:-0600
TZOFFSETTO:-0500
TZNAME:CDT
DTSTART:20210314T080000
END:DAYLIGHT
BEGIN:STANDARD
TZOFFSETFROM:-0500
TZOFFSETTO:-0600
TZNAME:CST
DTSTART:20211107T070000
END:STANDARD
BEGIN:DAYLIGHT
TZOFFSETFROM:-0600
TZOFFSETTO:-0500
TZNAME:CDT
DTSTART:20220313T080000
END:DAYLIGHT
BEGIN:STANDARD
TZOFFSETFROM:-0500
TZOFFSETTO:-0600
TZNAME:CST
DTSTART:20221106T070000
END:STANDARD
BEGIN:DAYLIGHT
TZOFFSETFROM:-0600
TZOFFSETTO:-0500
TZNAME:CDT
DTSTART:20230312T080000
END:DAYLIGHT
BEGIN:STANDARD
TZOFFSETFROM:-0500
TZOFFSETTO:-0600
TZNAME:CST
DTSTART:20231105T070000
END:STANDARD
END:VTIMEZONE
BEGIN:VEVENT
DTSTART;TZID=America/Chicago:20220512T174500
DTEND;TZID=America/Chicago:20220512T183000
DTSTAMP:20260425T210203
CREATED:20220509T213453Z
LAST-MODIFIED:20220509T213454Z
UID:6459-1652377500-1652380200@www.ptsc.k12.in.us
SUMMARY:Board of School Trustees/Executive Session
DESCRIPTION:
URL:https://www.ptsc.k12.in.us/events/board-of-school-trustees-executive-session/
LOCATION:Porter Township School Corporation Administration Building\, United States
CATEGORIES:Board Meetings,Board Meetings 2021-2022
END:VEVENT
BEGIN:VEVENT
DTSTART;TZID=America/Chicago:20220512T183000
DTEND;TZID=America/Chicago:20220512T200000
DTSTAMP:20260425T210203
CREATED:20220509T213806Z
LAST-MODIFIED:20220614T215229Z
UID:6461-1652380200-1652385600@www.ptsc.k12.in.us
SUMMARY:Board of School Trustees Meeting
DESCRIPTION:
URL:https://www.ptsc.k12.in.us/events/board-of-school-trustees-meeting-34/
LOCATION:Porter Township School Corporation Administration Building\, United States
CATEGORIES:Board Meetings,Board Meetings 2021-2022
END:VEVENT
BEGIN:VEVENT
DTSTART;TZID=America/Chicago:20220527T073000
DTEND;TZID=America/Chicago:20220527T083000
DTSTAMP:20260425T210203
CREATED:20220517T192611Z
LAST-MODIFIED:20220614T214956Z
UID:6691-1653636600-1653640200@www.ptsc.k12.in.us
SUMMARY:Special Board of School Trustees Meeting
DESCRIPTION:
URL:https://www.ptsc.k12.in.us/events/special-board-of-school-trustees-meeting/
LOCATION:Porter Township School Corporation Administration Building\, United States
CATEGORIES:Board Meetings,Board Meetings 2021-2022
END:VEVENT
END:VCALENDAR